BEGIN:VCALENDAR
VERSION:2.0
PRODID:-//Fahrschule Victoria - ECPv6.15.17.1//NONSGML v1.0//EN
CALSCALE:GREGORIAN
METHOD:PUBLISH
X-WR-CALNAME:Fahrschule Victoria
X-ORIGINAL-URL:https://www.victoria-fahrschule.de
X-WR-CALDESC:Veranstaltungen für Fahrschule Victoria
REFRESH-INTERVAL;VALUE=DURATION:PT1H
X-Robots-Tag:noindex
X-PUBLISHED-TTL:PT1H
BEGIN:VTIMEZONE
TZID:Europe/Berlin
BEGIN:DAYLIGHT
TZOFFSETFROM:+0100
TZOFFSETTO:+0200
TZNAME:CEST
DTSTART:20250330T010000
END:DAYLIGHT
BEGIN:STANDARD
TZOFFSETFROM:+0200
TZOFFSETTO:+0100
TZNAME:CET
DTSTART:20251026T010000
END:STANDARD
BEGIN:DAYLIGHT
TZOFFSETFROM:+0100
TZOFFSETTO:+0200
TZNAME:CEST
DTSTART:20260329T010000
END:DAYLIGHT
BEGIN:STANDARD
TZOFFSETFROM:+0200
TZOFFSETTO:+0100
TZNAME:CET
DTSTART:20261025T010000
END:STANDARD
BEGIN:DAYLIGHT
TZOFFSETFROM:+0100
TZOFFSETTO:+0200
TZNAME:CEST
DTSTART:20270328T010000
END:DAYLIGHT
BEGIN:STANDARD
TZOFFSETFROM:+0200
TZOFFSETTO:+0100
TZNAME:CET
DTSTART:20271031T010000
END:STANDARD
END:VTIMEZONE
BEGIN:VEVENT
DTSTART;TZID=Europe/Berlin:20260423T190000
DTEND;TZID=Europe/Berlin:20260423T203000
DTSTAMP:20260423T120614
CREATED:20260206T122756Z
LAST-MODIFIED:20260206T122756Z
UID:6288-1776970800-1776976200@www.victoria-fahrschule.de
SUMMARY:Thema 10: Schwachhausen
DESCRIPTION:
URL:https://www.victoria-fahrschule.de/termin/thema-10-schwachhausen-28/
LOCATION:Schwachhausen\, Schubertstraße 1\, Bremen\, 28209
END:VEVENT
BEGIN:VEVENT
DTSTART;TZID=Europe/Berlin:20260423T190000
DTEND;TZID=Europe/Berlin:20260423T203000
DTSTAMP:20260423T120614
CREATED:20260309T133746Z
LAST-MODIFIED:20260309T133746Z
UID:6343-1776970800-1776976200@www.victoria-fahrschule.de
SUMMARY:Thema 7: Oberneuland
DESCRIPTION:
URL:https://www.victoria-fahrschule.de/termin/thema-7-oberneuland-29/
LOCATION:Oberneuland\, Oberneulander Heerstraße 37\, Bremen\, 28355
END:VEVENT
END:VCALENDAR