BEGIN:VCALENDAR
VERSION:2.0
PRODID:-//Fahrschule Victoria - ECPv6.15.17.1//NONSGML v1.0//EN
CALSCALE:GREGORIAN
METHOD:PUBLISH
X-WR-CALNAME:Fahrschule Victoria
X-ORIGINAL-URL:https://www.victoria-fahrschule.de
X-WR-CALDESC:Veranstaltungen für Fahrschule Victoria
REFRESH-INTERVAL;VALUE=DURATION:PT1H
X-Robots-Tag:noindex
X-PUBLISHED-TTL:PT1H
BEGIN:VTIMEZONE
TZID:Europe/Berlin
BEGIN:DAYLIGHT
TZOFFSETFROM:+0100
TZOFFSETTO:+0200
TZNAME:CEST
DTSTART:20220327T010000
END:DAYLIGHT
BEGIN:STANDARD
TZOFFSETFROM:+0200
TZOFFSETTO:+0100
TZNAME:CET
DTSTART:20221030T010000
END:STANDARD
BEGIN:DAYLIGHT
TZOFFSETFROM:+0100
TZOFFSETTO:+0200
TZNAME:CEST
DTSTART:20230326T010000
END:DAYLIGHT
BEGIN:STANDARD
TZOFFSETFROM:+0200
TZOFFSETTO:+0100
TZNAME:CET
DTSTART:20231029T010000
END:STANDARD
BEGIN:DAYLIGHT
TZOFFSETFROM:+0100
TZOFFSETTO:+0200
TZNAME:CEST
DTSTART:20240331T010000
END:DAYLIGHT
BEGIN:STANDARD
TZOFFSETFROM:+0200
TZOFFSETTO:+0100
TZNAME:CET
DTSTART:20241027T010000
END:STANDARD
END:VTIMEZONE
BEGIN:VEVENT
DTSTART;TZID=Europe/Berlin:20230801T190000
DTEND;TZID=Europe/Berlin:20230801T203000
DTSTAMP:20260421T223326
CREATED:20230417T074111Z
LAST-MODIFIED:20230417T074111Z
UID:3624-1690916400-1690921800@www.victoria-fahrschule.de
SUMMARY:Thema 14: Oberneuland
DESCRIPTION:
URL:https://www.victoria-fahrschule.de/termin/thema-14-oberneuland-13/
LOCATION:Oberneuland\, Oberneulander Heerstraße 37\, Bremen\, 28355
END:VEVENT
BEGIN:VEVENT
DTSTART;TZID=Europe/Berlin:20230802T190000
DTEND;TZID=Europe/Berlin:20230802T203000
DTSTAMP:20260421T223326
CREATED:20230614T161720Z
LAST-MODIFIED:20230614T161720Z
UID:3703-1691002800-1691008200@www.victoria-fahrschule.de
SUMMARY:Thema 1: Horn
DESCRIPTION:
URL:https://www.victoria-fahrschule.de/termin/thema-1-horn-6/
LOCATION:Horn\, Haferwende 22b\, Bremen\, 28357\, Deutschland
END:VEVENT
BEGIN:VEVENT
DTSTART;TZID=Europe/Berlin:20230803T190000
DTEND;TZID=Europe/Berlin:20230803T203000
DTSTAMP:20260421T223326
CREATED:20230531T144650Z
LAST-MODIFIED:20230531T144650Z
UID:3674-1691089200-1691094600@www.victoria-fahrschule.de
SUMMARY:Thema 6: Schwachhausen
DESCRIPTION:
URL:https://www.victoria-fahrschule.de/termin/thema-6-schwachhausen-14/
LOCATION:Schwachhausen\, Schubertstraße 1\, Bremen\, 28209
END:VEVENT
BEGIN:VEVENT
DTSTART;TZID=Europe/Berlin:20230803T190000
DTEND;TZID=Europe/Berlin:20230803T203000
DTSTAMP:20260421T223326
CREATED:20230619T081740Z
LAST-MODIFIED:20230619T081740Z
UID:3746-1691089200-1691094600@www.victoria-fahrschule.de
SUMMARY:Thema 1: Oberneuland
DESCRIPTION:
URL:https://www.victoria-fahrschule.de/termin/thema-1-oberneuland-14/
LOCATION:Oberneuland\, Oberneulander Heerstraße 37\, Bremen\, 28355
END:VEVENT
BEGIN:VEVENT
DTSTART;TZID=Europe/Berlin:20230807T190000
DTEND;TZID=Europe/Berlin:20230807T203000
DTSTAMP:20260421T223326
CREATED:20230614T161817Z
LAST-MODIFIED:20230614T161817Z
UID:3706-1691434800-1691440200@www.victoria-fahrschule.de
SUMMARY:Thema 2: Horn
DESCRIPTION:
URL:https://www.victoria-fahrschule.de/termin/thema-2-horn-6/
LOCATION:Horn\, Haferwende 22b\, Bremen\, 28357\, Deutschland
END:VEVENT
BEGIN:VEVENT
DTSTART;TZID=Europe/Berlin:20230808T190000
DTEND;TZID=Europe/Berlin:20230808T203000
DTSTAMP:20260421T223326
CREATED:20230619T081837Z
LAST-MODIFIED:20230619T081837Z
UID:3748-1691521200-1691526600@www.victoria-fahrschule.de
SUMMARY:Thema 2: Oberneuland
DESCRIPTION:
URL:https://www.victoria-fahrschule.de/termin/thema-2-oberneuland-14/
LOCATION:Oberneuland\, Oberneulander Heerstraße 37\, Bremen\, 28355
END:VEVENT
BEGIN:VEVENT
DTSTART;TZID=Europe/Berlin:20230809T190000
DTEND;TZID=Europe/Berlin:20230809T203000
DTSTAMP:20260421T223326
CREATED:20230614T161921Z
LAST-MODIFIED:20230614T161921Z
UID:3709-1691607600-1691613000@www.victoria-fahrschule.de
SUMMARY:Thema 3: Horn
DESCRIPTION:
URL:https://www.victoria-fahrschule.de/termin/thema-3-horn-6/
LOCATION:Horn\, Haferwende 22b\, Bremen\, 28357\, Deutschland
END:VEVENT
BEGIN:VEVENT
DTSTART;TZID=Europe/Berlin:20230810T190000
DTEND;TZID=Europe/Berlin:20230810T203000
DTSTAMP:20260421T223326
CREATED:20230531T144750Z
LAST-MODIFIED:20230531T144750Z
UID:3677-1691694000-1691699400@www.victoria-fahrschule.de
SUMMARY:Thema 7: Schwachhausen
DESCRIPTION:
URL:https://www.victoria-fahrschule.de/termin/thema-7-schwachhausen-14/
LOCATION:Schwachhausen\, Schubertstraße 1\, Bremen\, 28209
END:VEVENT
BEGIN:VEVENT
DTSTART;TZID=Europe/Berlin:20230810T190000
DTEND;TZID=Europe/Berlin:20230810T203000
DTSTAMP:20260421T223326
CREATED:20230619T081934Z
LAST-MODIFIED:20230619T081934Z
UID:3751-1691694000-1691699400@www.victoria-fahrschule.de
SUMMARY:Thema 3: Oberneuland
DESCRIPTION:
URL:https://www.victoria-fahrschule.de/termin/thema-3-oberneuland-13/
LOCATION:Oberneuland\, Oberneulander Heerstraße 37\, Bremen\, 28355
END:VEVENT
BEGIN:VEVENT
DTSTART;TZID=Europe/Berlin:20230814T190000
DTEND;TZID=Europe/Berlin:20230814T203000
DTSTAMP:20260421T223326
CREATED:20230531T144852Z
LAST-MODIFIED:20230531T144852Z
UID:3680-1692039600-1692045000@www.victoria-fahrschule.de
SUMMARY:Thema 8: Schwachhausen
DESCRIPTION:
URL:https://www.victoria-fahrschule.de/termin/thema-8-schwachhausen-12/
LOCATION:Schwachhausen\, Schubertstraße 1\, Bremen\, 28209
END:VEVENT
BEGIN:VEVENT
DTSTART;TZID=Europe/Berlin:20230814T190000
DTEND;TZID=Europe/Berlin:20230814T203000
DTSTAMP:20260421T223326
CREATED:20230614T162017Z
LAST-MODIFIED:20230614T162017Z
UID:3712-1692039600-1692045000@www.victoria-fahrschule.de
SUMMARY:Thema 4: Horn
DESCRIPTION:
URL:https://www.victoria-fahrschule.de/termin/thema-4-horn-6/
LOCATION:Horn\, Haferwende 22b\, Bremen\, 28357\, Deutschland
END:VEVENT
BEGIN:VEVENT
DTSTART;TZID=Europe/Berlin:20230815T190000
DTEND;TZID=Europe/Berlin:20230815T203000
DTSTAMP:20260421T223326
CREATED:20230619T082038Z
LAST-MODIFIED:20230619T082038Z
UID:3754-1692126000-1692131400@www.victoria-fahrschule.de
SUMMARY:Thema 4: Oberneuland
DESCRIPTION:
URL:https://www.victoria-fahrschule.de/termin/thema-4-oberneuland-14/
LOCATION:Oberneuland\, Oberneulander Heerstraße 37\, Bremen\, 28355
END:VEVENT
BEGIN:VEVENT
DTSTART;TZID=Europe/Berlin:20230816T190000
DTEND;TZID=Europe/Berlin:20230816T203000
DTSTAMP:20260421T223326
CREATED:20230614T162128Z
LAST-MODIFIED:20230614T162128Z
UID:3715-1692212400-1692217800@www.victoria-fahrschule.de
SUMMARY:Thema 5: Horn
DESCRIPTION:
URL:https://www.victoria-fahrschule.de/termin/thema-5-horn-6/
LOCATION:Horn\, Haferwende 22b\, Bremen\, 28357\, Deutschland
END:VEVENT
BEGIN:VEVENT
DTSTART;TZID=Europe/Berlin:20230817T190000
DTEND;TZID=Europe/Berlin:20230817T203000
DTSTAMP:20260421T223326
CREATED:20230531T144950Z
LAST-MODIFIED:20230531T144950Z
UID:3683-1692298800-1692304200@www.victoria-fahrschule.de
SUMMARY:Thema 9: Schwachhausen
DESCRIPTION:
URL:https://www.victoria-fahrschule.de/termin/thema-9-schwachhausen-11/
LOCATION:Schwachhausen\, Schubertstraße 1\, Bremen\, 28209
END:VEVENT
BEGIN:VEVENT
DTSTART;TZID=Europe/Berlin:20230817T190000
DTEND;TZID=Europe/Berlin:20230817T203000
DTSTAMP:20260421T223326
CREATED:20230619T082133Z
LAST-MODIFIED:20230619T082133Z
UID:3757-1692298800-1692304200@www.victoria-fahrschule.de
SUMMARY:Thema 5: Oberneuland
DESCRIPTION:
URL:https://www.victoria-fahrschule.de/termin/thema-5-oberneuland-13/
LOCATION:Oberneuland\, Oberneulander Heerstraße 37\, Bremen\, 28355
END:VEVENT
END:VCALENDAR