BEGIN:VCALENDAR
VERSION:2.0
PRODID:-//Fahrschule Victoria - ECPv6.15.17.1//NONSGML v1.0//EN
CALSCALE:GREGORIAN
METHOD:PUBLISH
X-WR-CALNAME:Fahrschule Victoria
X-ORIGINAL-URL:https://www.victoria-fahrschule.de
X-WR-CALDESC:Veranstaltungen für Fahrschule Victoria
REFRESH-INTERVAL;VALUE=DURATION:PT1H
X-Robots-Tag:noindex
X-PUBLISHED-TTL:PT1H
BEGIN:VTIMEZONE
TZID:Europe/Berlin
BEGIN:DAYLIGHT
TZOFFSETFROM:+0100
TZOFFSETTO:+0200
TZNAME:CEST
DTSTART:20230326T010000
END:DAYLIGHT
BEGIN:STANDARD
TZOFFSETFROM:+0200
TZOFFSETTO:+0100
TZNAME:CET
DTSTART:20231029T010000
END:STANDARD
BEGIN:DAYLIGHT
TZOFFSETFROM:+0100
TZOFFSETTO:+0200
TZNAME:CEST
DTSTART:20240331T010000
END:DAYLIGHT
BEGIN:STANDARD
TZOFFSETFROM:+0200
TZOFFSETTO:+0100
TZNAME:CET
DTSTART:20241027T010000
END:STANDARD
BEGIN:DAYLIGHT
TZOFFSETFROM:+0100
TZOFFSETTO:+0200
TZNAME:CEST
DTSTART:20250330T010000
END:DAYLIGHT
BEGIN:STANDARD
TZOFFSETFROM:+0200
TZOFFSETTO:+0100
TZNAME:CET
DTSTART:20251026T010000
END:STANDARD
END:VTIMEZONE
BEGIN:VEVENT
DTSTART;TZID=Europe/Berlin:20240102T190000
DTEND;TZID=Europe/Berlin:20240102T203000
DTSTAMP:20260421T143623
CREATED:20231030T163502Z
LAST-MODIFIED:20231030T163502Z
UID:4002-1704222000-1704227400@www.victoria-fahrschule.de
SUMMARY:Thema 5: Oberneuland
DESCRIPTION:
URL:https://www.victoria-fahrschule.de/termin/thema-5-oberneuland-15/
LOCATION:Oberneuland\, Oberneulander Heerstraße 37\, Bremen\, 28355
END:VEVENT
BEGIN:VEVENT
DTSTART;TZID=Europe/Berlin:20240104T190000
DTEND;TZID=Europe/Berlin:20240104T203000
DTSTAMP:20260421T143623
CREATED:20231023T141825Z
LAST-MODIFIED:20231023T141825Z
UID:3963-1704394800-1704400200@www.victoria-fahrschule.de
SUMMARY:Thema 8: Schwachhausen
DESCRIPTION:
URL:https://www.victoria-fahrschule.de/termin/thema-8-schwachhausen-14/
LOCATION:Schwachhausen\, Schubertstraße 1\, Bremen\, 28209
END:VEVENT
BEGIN:VEVENT
DTSTART;TZID=Europe/Berlin:20240104T190000
DTEND;TZID=Europe/Berlin:20240104T203000
DTSTAMP:20260421T143623
CREATED:20231030T163637Z
LAST-MODIFIED:20231030T163637Z
UID:4005-1704394800-1704400200@www.victoria-fahrschule.de
SUMMARY:Thema 6: Oberneuland
DESCRIPTION:
URL:https://www.victoria-fahrschule.de/termin/thema-6-oberneuland-15/
LOCATION:Oberneuland\, Oberneulander Heerstraße 37\, Bremen\, 28355
END:VEVENT
BEGIN:VEVENT
DTSTART;TZID=Europe/Berlin:20240108T190000
DTEND;TZID=Europe/Berlin:20240108T203000
DTSTAMP:20260421T143623
CREATED:20231023T141952Z
LAST-MODIFIED:20231023T141952Z
UID:3966-1704740400-1704745800@www.victoria-fahrschule.de
SUMMARY:Thema 9: Schwachhausen
DESCRIPTION:
URL:https://www.victoria-fahrschule.de/termin/thema-9-schwachhausen-13/
LOCATION:Schwachhausen\, Schubertstraße 1\, Bremen\, 28209
END:VEVENT
BEGIN:VEVENT
DTSTART;TZID=Europe/Berlin:20240108T190000
DTEND;TZID=Europe/Berlin:20240108T203000
DTSTAMP:20260421T143623
CREATED:20231211T094114Z
LAST-MODIFIED:20231211T094114Z
UID:4042-1704740400-1704745800@www.victoria-fahrschule.de
SUMMARY:Thema 1: Horn
DESCRIPTION:
URL:https://www.victoria-fahrschule.de/termin/thema-1-horn-8/
LOCATION:Horn\, Haferwende 22b\, Bremen\, 28357\, Deutschland
END:VEVENT
BEGIN:VEVENT
DTSTART;TZID=Europe/Berlin:20240109T190000
DTEND;TZID=Europe/Berlin:20240109T203000
DTSTAMP:20260421T143623
CREATED:20231030T163757Z
LAST-MODIFIED:20231030T163757Z
UID:4008-1704826800-1704832200@www.victoria-fahrschule.de
SUMMARY:Thema 7: Oberneuland
DESCRIPTION:
URL:https://www.victoria-fahrschule.de/termin/thema-7-oberneuland-15/
LOCATION:Oberneuland\, Oberneulander Heerstraße 37\, Bremen\, 28355
END:VEVENT
BEGIN:VEVENT
DTSTART;TZID=Europe/Berlin:20240110T190000
DTEND;TZID=Europe/Berlin:20240110T203000
DTSTAMP:20260421T143623
CREATED:20231211T094214Z
LAST-MODIFIED:20231211T094214Z
UID:4045-1704913200-1704918600@www.victoria-fahrschule.de
SUMMARY:Thema 2: Horn
DESCRIPTION:
URL:https://www.victoria-fahrschule.de/termin/thema-2-horn-8/
LOCATION:Horn\, Haferwende 22b\, Bremen\, 28357\, Deutschland
END:VEVENT
BEGIN:VEVENT
DTSTART;TZID=Europe/Berlin:20240111T190000
DTEND;TZID=Europe/Berlin:20240111T203000
DTSTAMP:20260421T143623
CREATED:20231023T142049Z
LAST-MODIFIED:20231023T142049Z
UID:3969-1704999600-1705005000@www.victoria-fahrschule.de
SUMMARY:Thema 10: Schwachhausen
DESCRIPTION:
URL:https://www.victoria-fahrschule.de/termin/thema-10-schwachhausen-14/
LOCATION:Schwachhausen\, Schubertstraße 1\, Bremen\, 28209
END:VEVENT
BEGIN:VEVENT
DTSTART;TZID=Europe/Berlin:20240111T190000
DTEND;TZID=Europe/Berlin:20240111T203000
DTSTAMP:20260421T143623
CREATED:20231030T163938Z
LAST-MODIFIED:20231030T163938Z
UID:4011-1704999600-1705005000@www.victoria-fahrschule.de
SUMMARY:Thema 8: Oberneuland
DESCRIPTION:
URL:https://www.victoria-fahrschule.de/termin/thema-8-oberneuland-16/
LOCATION:Oberneuland\, Oberneulander Heerstraße 37\, Bremen\, 28355
END:VEVENT
BEGIN:VEVENT
DTSTART;TZID=Europe/Berlin:20240115T190000
DTEND;TZID=Europe/Berlin:20240115T203000
DTSTAMP:20260421T143623
CREATED:20231023T142158Z
LAST-MODIFIED:20231023T142158Z
UID:3972-1705345200-1705350600@www.victoria-fahrschule.de
SUMMARY:Thema 11: Schwachhausen
DESCRIPTION:
URL:https://www.victoria-fahrschule.de/termin/thema-11-schwachhausen-14/
LOCATION:Schwachhausen\, Schubertstraße 1\, Bremen\, 28209
END:VEVENT
BEGIN:VEVENT
DTSTART;TZID=Europe/Berlin:20240115T190000
DTEND;TZID=Europe/Berlin:20240115T203000
DTSTAMP:20260421T143623
CREATED:20231211T094318Z
LAST-MODIFIED:20231211T094318Z
UID:4048-1705345200-1705350600@www.victoria-fahrschule.de
SUMMARY:Thema 3: Horn
DESCRIPTION:
URL:https://www.victoria-fahrschule.de/termin/thema-3-horn-8/
LOCATION:Horn\, Haferwende 22b\, Bremen\, 28357\, Deutschland
END:VEVENT
BEGIN:VEVENT
DTSTART;TZID=Europe/Berlin:20240116T190000
DTEND;TZID=Europe/Berlin:20240116T203000
DTSTAMP:20260421T143623
CREATED:20231030T164101Z
LAST-MODIFIED:20231030T164101Z
UID:4014-1705431600-1705437000@www.victoria-fahrschule.de
SUMMARY:Thema 9: Oberneuland
DESCRIPTION:
URL:https://www.victoria-fahrschule.de/termin/thema-9-oberneuland-15/
LOCATION:Oberneuland\, Oberneulander Heerstraße 37\, Bremen\, 28355
END:VEVENT
BEGIN:VEVENT
DTSTART;TZID=Europe/Berlin:20240117T190000
DTEND;TZID=Europe/Berlin:20240117T203000
DTSTAMP:20260421T143623
CREATED:20231211T094435Z
LAST-MODIFIED:20231211T094435Z
UID:4051-1705518000-1705523400@www.victoria-fahrschule.de
SUMMARY:Thema 4: Horn
DESCRIPTION:
URL:https://www.victoria-fahrschule.de/termin/thema-4-horn-8/
LOCATION:Horn\, Haferwende 22b\, Bremen\, 28357\, Deutschland
END:VEVENT
BEGIN:VEVENT
DTSTART;TZID=Europe/Berlin:20240118T190000
DTEND;TZID=Europe/Berlin:20240118T203000
DTSTAMP:20260421T143623
CREATED:20231023T142301Z
LAST-MODIFIED:20231023T142301Z
UID:3975-1705604400-1705609800@www.victoria-fahrschule.de
SUMMARY:Thema 12: Schwachhausen
DESCRIPTION:
URL:https://www.victoria-fahrschule.de/termin/thema-12-schwachhausen-15/
LOCATION:Schwachhausen\, Schubertstraße 1\, Bremen\, 28209
END:VEVENT
BEGIN:VEVENT
DTSTART;TZID=Europe/Berlin:20240118T190000
DTEND;TZID=Europe/Berlin:20240118T203000
DTSTAMP:20260421T143623
CREATED:20231030T164316Z
LAST-MODIFIED:20231030T164316Z
UID:4017-1705604400-1705609800@www.victoria-fahrschule.de
SUMMARY:Thema 10: Oberneuland
DESCRIPTION:
URL:https://www.victoria-fahrschule.de/termin/thema-10-oberneuland-16/
LOCATION:Oberneuland\, Oberneulander Heerstraße 37\, Bremen\, 28355
END:VEVENT
BEGIN:VEVENT
DTSTART;TZID=Europe/Berlin:20240122T190000
DTEND;TZID=Europe/Berlin:20240122T203000
DTSTAMP:20260421T143623
CREATED:20231023T142420Z
LAST-MODIFIED:20231023T142420Z
UID:3978-1705950000-1705955400@www.victoria-fahrschule.de
SUMMARY:Thema 13: Schwachhausen
DESCRIPTION:
URL:https://www.victoria-fahrschule.de/termin/thema-13-schwachhausen-15/
LOCATION:Schwachhausen\, Schubertstraße 1\, Bremen\, 28209
END:VEVENT
BEGIN:VEVENT
DTSTART;TZID=Europe/Berlin:20240122T190000
DTEND;TZID=Europe/Berlin:20240122T203000
DTSTAMP:20260421T143623
CREATED:20231211T094525Z
LAST-MODIFIED:20231211T094525Z
UID:4054-1705950000-1705955400@www.victoria-fahrschule.de
SUMMARY:Thema 5: Horn
DESCRIPTION:
URL:https://www.victoria-fahrschule.de/termin/thema-5-horn-8/
LOCATION:Horn\, Haferwende 22b\, Bremen\, 28357\, Deutschland
END:VEVENT
BEGIN:VEVENT
DTSTART;TZID=Europe/Berlin:20240123T190000
DTEND;TZID=Europe/Berlin:20240123T203000
DTSTAMP:20260421T143623
CREATED:20231030T164450Z
LAST-MODIFIED:20231030T164450Z
UID:4020-1706036400-1706041800@www.victoria-fahrschule.de
SUMMARY:Thema 11: Oberneuland
DESCRIPTION:
URL:https://www.victoria-fahrschule.de/termin/thema-11-oberneuland-17/
LOCATION:Oberneuland\, Oberneulander Heerstraße 37\, Bremen\, 28355
END:VEVENT
BEGIN:VEVENT
DTSTART;TZID=Europe/Berlin:20240125T190000
DTEND;TZID=Europe/Berlin:20240125T203000
DTSTAMP:20260421T143623
CREATED:20231023T142639Z
LAST-MODIFIED:20231023T142639Z
UID:3981-1706209200-1706214600@www.victoria-fahrschule.de
SUMMARY:Thema 14: Schwachhausen
DESCRIPTION:
URL:https://www.victoria-fahrschule.de/termin/thema-14-schwachhausen-15/
LOCATION:Schwachhausen\, Schubertstraße 1\, Bremen\, 28209
END:VEVENT
BEGIN:VEVENT
DTSTART;TZID=Europe/Berlin:20240125T190000
DTEND;TZID=Europe/Berlin:20240125T203000
DTSTAMP:20260421T143623
CREATED:20231030T164621Z
LAST-MODIFIED:20231030T164621Z
UID:4023-1706209200-1706214600@www.victoria-fahrschule.de
SUMMARY:Thema 12: Oberneuland
DESCRIPTION:
URL:https://www.victoria-fahrschule.de/termin/thema-12-oberneuland-15/
LOCATION:Oberneuland\, Oberneulander Heerstraße 37\, Bremen\, 28355
END:VEVENT
BEGIN:VEVENT
DTSTART;TZID=Europe/Berlin:20240127T090000
DTEND;TZID=Europe/Berlin:20240127T120000
DTSTAMP:20260421T143623
CREATED:20240110T164116Z
LAST-MODIFIED:20240110T164116Z
UID:4094-1706346000-1706356800@www.victoria-fahrschule.de
SUMMARY:Thema Z1 & Z2 (Motorrad) Schwachhausen
DESCRIPTION:
URL:https://www.victoria-fahrschule.de/termin/thema-z1-z2-motorrad-schwachhausen-2/
LOCATION:Schwachhausen\, Schubertstraße 1\, Bremen\, 28209
END:VEVENT
BEGIN:VEVENT
DTSTART;TZID=Europe/Berlin:20240129T190000
DTEND;TZID=Europe/Berlin:20240129T203000
DTSTAMP:20260421T143623
CREATED:20231211T094637Z
LAST-MODIFIED:20231211T094637Z
UID:4057-1706554800-1706560200@www.victoria-fahrschule.de
SUMMARY:Thema 6: Horn
DESCRIPTION:
URL:https://www.victoria-fahrschule.de/termin/thema-6-horn-8/
LOCATION:Horn\, Haferwende 22b\, Bremen\, 28357\, Deutschland
END:VEVENT
BEGIN:VEVENT
DTSTART;TZID=Europe/Berlin:20240130T190000
DTEND;TZID=Europe/Berlin:20240130T203000
DTSTAMP:20260421T143623
CREATED:20231030T164819Z
LAST-MODIFIED:20231030T164819Z
UID:4026-1706641200-1706646600@www.victoria-fahrschule.de
SUMMARY:Thema 13: Oberneuland
DESCRIPTION:
URL:https://www.victoria-fahrschule.de/termin/thema-13-oberneuland-15/
LOCATION:Oberneuland\, Oberneulander Heerstraße 37\, Bremen\, 28355
END:VEVENT
BEGIN:VEVENT
DTSTART;TZID=Europe/Berlin:20240131T190000
DTEND;TZID=Europe/Berlin:20240131T203000
DTSTAMP:20260421T143623
CREATED:20231211T094738Z
LAST-MODIFIED:20231211T094738Z
UID:4060-1706727600-1706733000@www.victoria-fahrschule.de
SUMMARY:Thema 7: Horn
DESCRIPTION:
URL:https://www.victoria-fahrschule.de/termin/thema-7-horn-8/
LOCATION:Horn\, Haferwende 22b\, Bremen\, 28357\, Deutschland
END:VEVENT
END:VCALENDAR