BEGIN:VCALENDAR
VERSION:2.0
PRODID:-//Fahrschule Victoria - ECPv6.15.17.1//NONSGML v1.0//EN
CALSCALE:GREGORIAN
METHOD:PUBLISH
X-ORIGINAL-URL:https://www.victoria-fahrschule.de
X-WR-CALDESC:Veranstaltungen für Fahrschule Victoria
REFRESH-INTERVAL;VALUE=DURATION:PT1H
X-Robots-Tag:noindex
X-PUBLISHED-TTL:PT1H
BEGIN:VTIMEZONE
TZID:Europe/Berlin
BEGIN:DAYLIGHT
TZOFFSETFROM:+0100
TZOFFSETTO:+0200
TZNAME:CEST
DTSTART:20230326T010000
END:DAYLIGHT
BEGIN:STANDARD
TZOFFSETFROM:+0200
TZOFFSETTO:+0100
TZNAME:CET
DTSTART:20231029T010000
END:STANDARD
BEGIN:DAYLIGHT
TZOFFSETFROM:+0100
TZOFFSETTO:+0200
TZNAME:CEST
DTSTART:20240331T010000
END:DAYLIGHT
BEGIN:STANDARD
TZOFFSETFROM:+0200
TZOFFSETTO:+0100
TZNAME:CET
DTSTART:20241027T010000
END:STANDARD
BEGIN:DAYLIGHT
TZOFFSETFROM:+0100
TZOFFSETTO:+0200
TZNAME:CEST
DTSTART:20250330T010000
END:DAYLIGHT
BEGIN:STANDARD
TZOFFSETFROM:+0200
TZOFFSETTO:+0100
TZNAME:CET
DTSTART:20251026T010000
END:STANDARD
END:VTIMEZONE
BEGIN:VEVENT
DTSTART;TZID=Europe/Berlin:20240403T190000
DTEND;TZID=Europe/Berlin:20240403T203000
DTSTAMP:20260421T161410
CREATED:20240226T090651Z
LAST-MODIFIED:20240226T090651Z
UID:4332-1712170800-1712176200@www.victoria-fahrschule.de
SUMMARY:Thema 4: Horn
DESCRIPTION:
URL:https://www.victoria-fahrschule.de/termin/thema-4-horn-9/
LOCATION:Horn\, Haferwende 22b\, Bremen\, 28357\, Deutschland
END:VEVENT
BEGIN:VEVENT
DTSTART;TZID=Europe/Berlin:20240406T090000
DTEND;TZID=Europe/Berlin:20240406T120000
DTSTAMP:20260421T161410
CREATED:20240312T101419Z
LAST-MODIFIED:20240312T101419Z
UID:4512-1712394000-1712404800@www.victoria-fahrschule.de
SUMMARY:Thema Z1 & Z2 (Motorrad) Schwachhausen
DESCRIPTION:
URL:https://www.victoria-fahrschule.de/termin/thema-z1-z2-motorrad-schwachhausen-3/
LOCATION:Schwachhausen\, Schubertstraße 1\, Bremen\, 28209
END:VEVENT
BEGIN:VEVENT
DTSTART;TZID=Europe/Berlin:20240408T190000
DTEND;TZID=Europe/Berlin:20240408T203000
DTSTAMP:20260421T161410
CREATED:20240226T090756Z
LAST-MODIFIED:20240226T090756Z
UID:4335-1712602800-1712608200@www.victoria-fahrschule.de
SUMMARY:Thema 5: Horn
DESCRIPTION:
URL:https://www.victoria-fahrschule.de/termin/thema-5-horn-9/
LOCATION:Horn\, Haferwende 22b\, Bremen\, 28357\, Deutschland
END:VEVENT
BEGIN:VEVENT
DTSTART;TZID=Europe/Berlin:20240408T190000
DTEND;TZID=Europe/Berlin:20240408T203000
DTSTAMP:20260421T161410
CREATED:20240228T090415Z
LAST-MODIFIED:20240228T090415Z
UID:4414-1712602800-1712608200@www.victoria-fahrschule.de
SUMMARY:Thema 3: Schwachhausen
DESCRIPTION:
URL:https://www.victoria-fahrschule.de/termin/thema-3-schwachhausen-18/
LOCATION:Schwachhausen\, Schubertstraße 1\, Bremen\, 28209
END:VEVENT
BEGIN:VEVENT
DTSTART;TZID=Europe/Berlin:20240409T190000
DTEND;TZID=Europe/Berlin:20240409T203000
DTSTAMP:20260421T161410
CREATED:20240228T082457Z
LAST-MODIFIED:20240228T082457Z
UID:4365-1712689200-1712694600@www.victoria-fahrschule.de
SUMMARY:Thema 1: Oberneuland
DESCRIPTION:
URL:https://www.victoria-fahrschule.de/termin/thema-1-oberneuland-18/
LOCATION:Oberneuland\, Oberneulander Heerstraße 37\, Bremen\, 28355
END:VEVENT
BEGIN:VEVENT
DTSTART;TZID=Europe/Berlin:20240410T190000
DTEND;TZID=Europe/Berlin:20240410T203000
DTSTAMP:20260421T161411
CREATED:20240226T090906Z
LAST-MODIFIED:20240308T113623Z
UID:4338-1712775600-1712781000@www.victoria-fahrschule.de
SUMMARY:Thema 6: Horn
DESCRIPTION:
URL:https://www.victoria-fahrschule.de/termin/thema-6-horn-9/
LOCATION:Horn\, Haferwende 22b\, Bremen\, 28357\, Deutschland
END:VEVENT
BEGIN:VEVENT
DTSTART;TZID=Europe/Berlin:20240411T190000
DTEND;TZID=Europe/Berlin:20240411T203000
DTSTAMP:20260421T161411
CREATED:20240228T082556Z
LAST-MODIFIED:20240228T082556Z
UID:4368-1712862000-1712867400@www.victoria-fahrschule.de
SUMMARY:Thema 2: Oberneuland
DESCRIPTION:
URL:https://www.victoria-fahrschule.de/termin/thema-2-oberneuland-18/
LOCATION:Oberneuland\, Oberneulander Heerstraße 37\, Bremen\, 28355
END:VEVENT
BEGIN:VEVENT
DTSTART;TZID=Europe/Berlin:20240411T190000
DTEND;TZID=Europe/Berlin:20240411T203000
DTSTAMP:20260421T161411
CREATED:20240228T090510Z
LAST-MODIFIED:20240228T090510Z
UID:4417-1712862000-1712867400@www.victoria-fahrschule.de
SUMMARY:Thema 4: Schwachhausen
DESCRIPTION:
URL:https://www.victoria-fahrschule.de/termin/thema-4-schwachhausen-18/
LOCATION:Schwachhausen\, Schubertstraße 1\, Bremen\, 28209
END:VEVENT
BEGIN:VEVENT
DTSTART;TZID=Europe/Berlin:20240422T190000
DTEND;TZID=Europe/Berlin:20240422T203000
DTSTAMP:20260421T161411
CREATED:20240226T091006Z
LAST-MODIFIED:20240226T091006Z
UID:4341-1713812400-1713817800@www.victoria-fahrschule.de
SUMMARY:Thema 7: Horn
DESCRIPTION:
URL:https://www.victoria-fahrschule.de/termin/thema-7-horn-9/
LOCATION:Horn\, Haferwende 22b\, Bremen\, 28357\, Deutschland
END:VEVENT
BEGIN:VEVENT
DTSTART;TZID=Europe/Berlin:20240422T190000
DTEND;TZID=Europe/Berlin:20240422T203000
DTSTAMP:20260421T161411
CREATED:20240228T090622Z
LAST-MODIFIED:20240228T090622Z
UID:4420-1713812400-1713817800@www.victoria-fahrschule.de
SUMMARY:Thema 5: Schwachhausen
DESCRIPTION:
URL:https://www.victoria-fahrschule.de/termin/thema-5-schwachhausen-19/
LOCATION:Schwachhausen\, Schubertstraße 1\, Bremen\, 28209
END:VEVENT
BEGIN:VEVENT
DTSTART;TZID=Europe/Berlin:20240423T190000
DTEND;TZID=Europe/Berlin:20240423T203000
DTSTAMP:20260421T161411
CREATED:20240228T082649Z
LAST-MODIFIED:20240228T082649Z
UID:4371-1713898800-1713904200@www.victoria-fahrschule.de
SUMMARY:Thema 3: Oberneuland
DESCRIPTION:
URL:https://www.victoria-fahrschule.de/termin/thema-3-oberneuland-17/
LOCATION:Oberneuland\, Oberneulander Heerstraße 37\, Bremen\, 28355
END:VEVENT
BEGIN:VEVENT
DTSTART;TZID=Europe/Berlin:20240424T190000
DTEND;TZID=Europe/Berlin:20240424T203000
DTSTAMP:20260421T161411
CREATED:20240226T091105Z
LAST-MODIFIED:20240226T091105Z
UID:4344-1713985200-1713990600@www.victoria-fahrschule.de
SUMMARY:Thema 8: Horn
DESCRIPTION:
URL:https://www.victoria-fahrschule.de/termin/thema-8-horn-9/
LOCATION:Horn\, Haferwende 22b\, Bremen\, 28357\, Deutschland
END:VEVENT
BEGIN:VEVENT
DTSTART;TZID=Europe/Berlin:20240425T190000
DTEND;TZID=Europe/Berlin:20240425T203000
DTSTAMP:20260421T161411
CREATED:20240228T082744Z
LAST-MODIFIED:20240228T082744Z
UID:4374-1714071600-1714077000@www.victoria-fahrschule.de
SUMMARY:Thema 4: Oberneuland
DESCRIPTION:
URL:https://www.victoria-fahrschule.de/termin/thema-4-oberneuland-18/
LOCATION:Oberneuland\, Oberneulander Heerstraße 37\, Bremen\, 28355
END:VEVENT
BEGIN:VEVENT
DTSTART;TZID=Europe/Berlin:20240425T190000
DTEND;TZID=Europe/Berlin:20240425T203000
DTSTAMP:20260421T161411
CREATED:20240228T090719Z
LAST-MODIFIED:20240228T090719Z
UID:4423-1714071600-1714077000@www.victoria-fahrschule.de
SUMMARY:Thema 6: Schwachhausen
DESCRIPTION:
URL:https://www.victoria-fahrschule.de/termin/thema-6-schwachhausen-18/
LOCATION:Schwachhausen\, Schubertstraße 1\, Bremen\, 28209
END:VEVENT
BEGIN:VEVENT
DTSTART;TZID=Europe/Berlin:20240426T170000
DTEND;TZID=Europe/Berlin:20240426T200000
DTSTAMP:20260421T161411
CREATED:20240411T135817Z
LAST-MODIFIED:20240411T135836Z
UID:4543-1714150800-1714161600@www.victoria-fahrschule.de
SUMMARY:Thema Z1 & Z2 (Motorrad) Schwachhausen
DESCRIPTION:
URL:https://www.victoria-fahrschule.de/termin/thema-z1-z2-motorrad-schwachhausen-4/
LOCATION:Schwachhausen\, Schubertstraße 1\, Bremen\, 28209
END:VEVENT
BEGIN:VEVENT
DTSTART;TZID=Europe/Berlin:20240429T190000
DTEND;TZID=Europe/Berlin:20240429T203000
DTSTAMP:20260421T161411
CREATED:20240226T091203Z
LAST-MODIFIED:20240226T091203Z
UID:4347-1714417200-1714422600@www.victoria-fahrschule.de
SUMMARY:Thema 9: Horn
DESCRIPTION:
URL:https://www.victoria-fahrschule.de/termin/thema-9-horn-9/
LOCATION:Horn\, Haferwende 22b\, Bremen\, 28357\, Deutschland
END:VEVENT
BEGIN:VEVENT
DTSTART;TZID=Europe/Berlin:20240429T190000
DTEND;TZID=Europe/Berlin:20240429T203000
DTSTAMP:20260421T161411
CREATED:20240228T090812Z
LAST-MODIFIED:20240228T090812Z
UID:4426-1714417200-1714422600@www.victoria-fahrschule.de
SUMMARY:Thema 7: Schwachhausen
DESCRIPTION:
URL:https://www.victoria-fahrschule.de/termin/thema-7-schwachhausen-18/
LOCATION:Schwachhausen\, Schubertstraße 1\, Bremen\, 28209
END:VEVENT
BEGIN:VEVENT
DTSTART;TZID=Europe/Berlin:20240430T190000
DTEND;TZID=Europe/Berlin:20240430T203000
DTSTAMP:20260421T161411
CREATED:20240228T082840Z
LAST-MODIFIED:20240228T082840Z
UID:4377-1714503600-1714509000@www.victoria-fahrschule.de
SUMMARY:Thema 5: Oberneuland
DESCRIPTION:
URL:https://www.victoria-fahrschule.de/termin/thema-5-oberneuland-17/
LOCATION:Oberneuland\, Oberneulander Heerstraße 37\, Bremen\, 28355
END:VEVENT
END:VCALENDAR