BEGIN:VCALENDAR
VERSION:2.0
PRODID:-//Fahrschule Victoria - ECPv6.15.17.1//NONSGML v1.0//EN
CALSCALE:GREGORIAN
METHOD:PUBLISH
X-ORIGINAL-URL:https://www.victoria-fahrschule.de
X-WR-CALDESC:Veranstaltungen für Fahrschule Victoria
REFRESH-INTERVAL;VALUE=DURATION:PT1H
X-Robots-Tag:noindex
X-PUBLISHED-TTL:PT1H
BEGIN:VTIMEZONE
TZID:Europe/Berlin
BEGIN:DAYLIGHT
TZOFFSETFROM:+0100
TZOFFSETTO:+0200
TZNAME:CEST
DTSTART:20230326T010000
END:DAYLIGHT
BEGIN:STANDARD
TZOFFSETFROM:+0200
TZOFFSETTO:+0100
TZNAME:CET
DTSTART:20231029T010000
END:STANDARD
BEGIN:DAYLIGHT
TZOFFSETFROM:+0100
TZOFFSETTO:+0200
TZNAME:CEST
DTSTART:20240331T010000
END:DAYLIGHT
BEGIN:STANDARD
TZOFFSETFROM:+0200
TZOFFSETTO:+0100
TZNAME:CET
DTSTART:20241027T010000
END:STANDARD
BEGIN:DAYLIGHT
TZOFFSETFROM:+0100
TZOFFSETTO:+0200
TZNAME:CEST
DTSTART:20250330T010000
END:DAYLIGHT
BEGIN:STANDARD
TZOFFSETFROM:+0200
TZOFFSETTO:+0100
TZNAME:CET
DTSTART:20251026T010000
END:STANDARD
END:VTIMEZONE
BEGIN:VEVENT
DTSTART;TZID=Europe/Berlin:20240701T190000
DTEND;TZID=Europe/Berlin:20240701T203000
DTSTAMP:20260423T134217
CREATED:20240505T180948Z
LAST-MODIFIED:20240505T180948Z
UID:4654-1719860400-1719865800@www.victoria-fahrschule.de
SUMMARY:Thema 8: Schwachhausen
DESCRIPTION:
URL:https://www.victoria-fahrschule.de/termin/thema-8-schwachhausen-17/
LOCATION:Schwachhausen\, Schubertstraße 1\, Bremen\, 28209
END:VEVENT
BEGIN:VEVENT
DTSTART;TZID=Europe/Berlin:20240702T190000
DTEND;TZID=Europe/Berlin:20240702T203000
DTSTAMP:20260423T134217
CREATED:20240505T173303Z
LAST-MODIFIED:20240505T173303Z
UID:4561-1719946800-1719952200@www.victoria-fahrschule.de
SUMMARY:Thema 5: Oberneuland
DESCRIPTION:
URL:https://www.victoria-fahrschule.de/termin/thema-5-oberneuland-18/
LOCATION:Oberneuland\, Oberneulander Heerstraße 37\, Bremen\, 28355
END:VEVENT
BEGIN:VEVENT
DTSTART;TZID=Europe/Berlin:20240704T190000
DTEND;TZID=Europe/Berlin:20240704T203000
DTSTAMP:20260423T134217
CREATED:20240505T173428Z
LAST-MODIFIED:20240505T173428Z
UID:4564-1720119600-1720125000@www.victoria-fahrschule.de
SUMMARY:Thema 6: Oberneuland
DESCRIPTION:
URL:https://www.victoria-fahrschule.de/termin/thema-6-oberneuland-18/
LOCATION:Oberneuland\, Oberneulander Heerstraße 37\, Bremen\, 28355
END:VEVENT
BEGIN:VEVENT
DTSTART;TZID=Europe/Berlin:20240704T190000
DTEND;TZID=Europe/Berlin:20240704T203000
DTSTAMP:20260423T134217
CREATED:20240505T181102Z
LAST-MODIFIED:20240505T181102Z
UID:4657-1720119600-1720125000@www.victoria-fahrschule.de
SUMMARY:Thema 9: Schwachhausen
DESCRIPTION:
URL:https://www.victoria-fahrschule.de/termin/thema-9-schwachhausen-16/
LOCATION:Schwachhausen\, Schubertstraße 1\, Bremen\, 28209
END:VEVENT
BEGIN:VEVENT
DTSTART;TZID=Europe/Berlin:20240708T190000
DTEND;TZID=Europe/Berlin:20240708T203000
DTSTAMP:20260423T134217
CREATED:20240505T181218Z
LAST-MODIFIED:20240505T181218Z
UID:4660-1720465200-1720470600@www.victoria-fahrschule.de
SUMMARY:Thema 10: Schwachhausen
DESCRIPTION:
URL:https://www.victoria-fahrschule.de/termin/thema-10-schwachhausen-17/
LOCATION:Schwachhausen\, Schubertstraße 1\, Bremen\, 28209
END:VEVENT
BEGIN:VEVENT
DTSTART;TZID=Europe/Berlin:20240709T190000
DTEND;TZID=Europe/Berlin:20240709T203000
DTSTAMP:20260423T134217
CREATED:20240505T173552Z
LAST-MODIFIED:20240505T173552Z
UID:4567-1720551600-1720557000@www.victoria-fahrschule.de
SUMMARY:Thema 7: Oberneuland
DESCRIPTION:
URL:https://www.victoria-fahrschule.de/termin/thema-7-oberneuland-18/
LOCATION:Oberneuland\, Oberneulander Heerstraße 37\, Bremen\, 28355
END:VEVENT
BEGIN:VEVENT
DTSTART;TZID=Europe/Berlin:20240711T190000
DTEND;TZID=Europe/Berlin:20240711T203000
DTSTAMP:20260423T134217
CREATED:20240505T173717Z
LAST-MODIFIED:20240505T173717Z
UID:4570-1720724400-1720729800@www.victoria-fahrschule.de
SUMMARY:Thema 8: Oberneuland
DESCRIPTION:
URL:https://www.victoria-fahrschule.de/termin/thema-8-oberneuland-19/
LOCATION:Oberneuland\, Oberneulander Heerstraße 37\, Bremen\, 28355
END:VEVENT
BEGIN:VEVENT
DTSTART;TZID=Europe/Berlin:20240711T190000
DTEND;TZID=Europe/Berlin:20240711T203000
DTSTAMP:20260423T134217
CREATED:20240505T181317Z
LAST-MODIFIED:20240505T181317Z
UID:4663-1720724400-1720729800@www.victoria-fahrschule.de
SUMMARY:Thema 11: Schwachhausen
DESCRIPTION:
URL:https://www.victoria-fahrschule.de/termin/thema-11-schwachhausen-17/
LOCATION:Schwachhausen\, Schubertstraße 1\, Bremen\, 28209
END:VEVENT
BEGIN:VEVENT
DTSTART;TZID=Europe/Berlin:20240715T190000
DTEND;TZID=Europe/Berlin:20240715T203000
DTSTAMP:20260423T134217
CREATED:20240505T181419Z
LAST-MODIFIED:20240505T181419Z
UID:4666-1721070000-1721075400@www.victoria-fahrschule.de
SUMMARY:Thema 12: Schwachhausen
DESCRIPTION:
URL:https://www.victoria-fahrschule.de/termin/thema-12-schwachhausen-18/
LOCATION:Schwachhausen\, Schubertstraße 1\, Bremen\, 28209
END:VEVENT
BEGIN:VEVENT
DTSTART;TZID=Europe/Berlin:20240716T190000
DTEND;TZID=Europe/Berlin:20240716T203000
DTSTAMP:20260423T134217
CREATED:20240505T173827Z
LAST-MODIFIED:20240505T173827Z
UID:4573-1721156400-1721161800@www.victoria-fahrschule.de
SUMMARY:Thema 9: Oberneuland
DESCRIPTION:
URL:https://www.victoria-fahrschule.de/termin/thema-9-oberneuland-18/
LOCATION:Oberneuland\, Oberneulander Heerstraße 37\, Bremen\, 28355
END:VEVENT
BEGIN:VEVENT
DTSTART;TZID=Europe/Berlin:20240718T190000
DTEND;TZID=Europe/Berlin:20240718T203000
DTSTAMP:20260423T134217
CREATED:20240505T173931Z
LAST-MODIFIED:20240505T173931Z
UID:4576-1721329200-1721334600@www.victoria-fahrschule.de
SUMMARY:Thema 10: Oberneuland
DESCRIPTION:
URL:https://www.victoria-fahrschule.de/termin/thema-10-oberneuland-19/
LOCATION:Oberneuland\, Oberneulander Heerstraße 37\, Bremen\, 28355
END:VEVENT
BEGIN:VEVENT
DTSTART;TZID=Europe/Berlin:20240718T190000
DTEND;TZID=Europe/Berlin:20240718T203000
DTSTAMP:20260423T134217
CREATED:20240505T181610Z
LAST-MODIFIED:20240505T181610Z
UID:4669-1721329200-1721334600@www.victoria-fahrschule.de
SUMMARY:Thema 13: Schwachhausen
DESCRIPTION:
URL:https://www.victoria-fahrschule.de/termin/thema-13-schwachhausen-18/
LOCATION:Schwachhausen\, Schubertstraße 1\, Bremen\, 28209
END:VEVENT
BEGIN:VEVENT
DTSTART;TZID=Europe/Berlin:20240722T190000
DTEND;TZID=Europe/Berlin:20240722T203000
DTSTAMP:20260423T134217
CREATED:20240505T175337Z
LAST-MODIFIED:20240722T071657Z
UID:4612-1721674800-1721680200@www.victoria-fahrschule.de
SUMMARY:Thema 8: Schwachhausen
DESCRIPTION:
URL:https://www.victoria-fahrschule.de/termin/thema-8-horn-10/
LOCATION:Schwachhausen\, Schubertstraße 1\, Bremen\, 28209
END:VEVENT
BEGIN:VEVENT
DTSTART;TZID=Europe/Berlin:20240724T190000
DTEND;TZID=Europe/Berlin:20240724T203000
DTSTAMP:20260423T134217
CREATED:20240505T175450Z
LAST-MODIFIED:20240505T175450Z
UID:4615-1721847600-1721853000@www.victoria-fahrschule.de
SUMMARY:Thema 9: Horn
DESCRIPTION:
URL:https://www.victoria-fahrschule.de/termin/thema-9-horn-10/
LOCATION:Horn\, Haferwende 22b\, Bremen\, 28357\, Deutschland
END:VEVENT
BEGIN:VEVENT
DTSTART;TZID=Europe/Berlin:20240725T190000
DTEND;TZID=Europe/Berlin:20240725T203000
DTSTAMP:20260423T134217
CREATED:20240505T181721Z
LAST-MODIFIED:20240505T181721Z
UID:4672-1721934000-1721939400@www.victoria-fahrschule.de
SUMMARY:Thema 14: Schwachhausen
DESCRIPTION:
URL:https://www.victoria-fahrschule.de/termin/thema-14-schwachhausen-18/
LOCATION:Schwachhausen\, Schubertstraße 1\, Bremen\, 28209
END:VEVENT
BEGIN:VEVENT
DTSTART;TZID=Europe/Berlin:20240729T183000
DTEND;TZID=Europe/Berlin:20240729T200000
DTSTAMP:20260423T134217
CREATED:20240505T175601Z
LAST-MODIFIED:20240729T093107Z
UID:4618-1722277800-1722283200@www.victoria-fahrschule.de
SUMMARY:Thema 10: Schwachhausen
DESCRIPTION:
URL:https://www.victoria-fahrschule.de/termin/thema-10-horn-10/
LOCATION:Schwachhausen\, Schubertstraße 1\, Bremen\, 28209
END:VEVENT
BEGIN:VEVENT
DTSTART;TZID=Europe/Berlin:20240731T190000
DTEND;TZID=Europe/Berlin:20240731T203000
DTSTAMP:20260423T134217
CREATED:20240505T175711Z
LAST-MODIFIED:20240505T175711Z
UID:4621-1722452400-1722457800@www.victoria-fahrschule.de
SUMMARY:Thema 11: Horn
DESCRIPTION:
URL:https://www.victoria-fahrschule.de/termin/thema-11-horn-10/
LOCATION:Horn\, Haferwende 22b\, Bremen\, 28357\, Deutschland
END:VEVENT
END:VCALENDAR